BEGIN:VCALENDAR
VERSION:2.0
PRODID:-//The Luke Theatre - ECPv6.15.20//NONSGML v1.0//EN
CALSCALE:GREGORIAN
METHOD:PUBLISH
X-ORIGINAL-URL:https://luketheatre.org
X-WR-CALDESC:Events for The Luke Theatre
REFRESH-INTERVAL;VALUE=DURATION:PT1H
X-Robots-Tag:noindex
X-PUBLISHED-TTL:PT1H
BEGIN:VTIMEZONE
TZID:America/Los_Angeles
BEGIN:DAYLIGHT
TZOFFSETFROM:-0800
TZOFFSETTO:-0700
TZNAME:PDT
DTSTART:20250309T100000
END:DAYLIGHT
BEGIN:STANDARD
TZOFFSETFROM:-0700
TZOFFSETTO:-0800
TZNAME:PST
DTSTART:20251102T090000
END:STANDARD
BEGIN:DAYLIGHT
TZOFFSETFROM:-0800
TZOFFSETTO:-0700
TZNAME:PDT
DTSTART:20260308T100000
END:DAYLIGHT
BEGIN:STANDARD
TZOFFSETFROM:-0700
TZOFFSETTO:-0800
TZNAME:PST
DTSTART:20261101T090000
END:STANDARD
BEGIN:DAYLIGHT
TZOFFSETFROM:-0800
TZOFFSETTO:-0700
TZNAME:PDT
DTSTART:20270314T100000
END:DAYLIGHT
BEGIN:STANDARD
TZOFFSETFROM:-0700
TZOFFSETTO:-0800
TZNAME:PST
DTSTART:20271107T090000
END:STANDARD
END:VTIMEZONE
BEGIN:VEVENT
DTSTART;TZID=America/Los_Angeles:20260426T183000
DTEND;TZID=America/Los_Angeles:20260426T200000
DTSTAMP:20260423T111733
CREATED:20260408T010600Z
LAST-MODIFIED:20260408T010600Z
UID:7321-1777228200-1777233600@luketheatre.org
SUMMARY:Move With Purpose
DESCRIPTION:Move With Purpose aims to heal and empower members of marginalized communities and bridge gaps through access to arts\, educational opportunities\, and the support of safe and brave spaces. They advance children’s chances for success by using the arts as a vehicle to instill confidence\, and teach leadership\, resilience\, life skills\, and philanthropy. \nTo learn more about Move With Purpose scholarships\, pillars\, programs and mission\, go to movewithpurposesb.org.
URL:https://luketheatre.org/event/move-with-purpose-2/
LOCATION:The Luke Theatre\, 721 E. Cota Street\, Santa Barbara\, CA\, 93103\, United States
ATTACH;FMTTYPE=image/png:https://luketheatre.org/wp-content/uploads/2025/04/MWP-2025-Insta-size-1.png
END:VEVENT
BEGIN:VEVENT
DTSTART;TZID=America/Los_Angeles:20260927T190000
DTEND;TZID=America/Los_Angeles:20260927T210000
DTSTAMP:20260423T111733
CREATED:20260206T012538Z
LAST-MODIFIED:20260206T012538Z
UID:7248-1790535600-1790542800@luketheatre.org
SUMMARY:Snatam Kaur - By Thy Grace: 25 Years of Mantra
DESCRIPTION:In 2026\, Snatam Kaur brings By Thy Grace: 25 Years of Mantra to audiences across North America and Canada. This is a continuation of a decades long journey of shared chanting\, prayer\, and healing through sound. \nThese concerts are gatherings where stillness\, devotion\, and collective voice come together to create an experience of oneness and healing. Each concert begins gently and meditatively\, building into moments of deep joy and powerful celebration\, and finally\, ending with stillness and prayer. Together\, we will chant the mantras and songs that have held us through life’s greatest challenges and joys\, honoring their capacity to being us back to ourselves time and time again. \nThe title By Thy Grace reflects the heart of this tour. After twenty-five years of recording and sharing her music\, Snatam views this work as something carried by the grace of the mantras themselves\, the musicians and collaborators who helped to bring them into the world\, and the communities who have welcomes these songs into their lives. What began in humble beginnings as unfamiliar sounds to her audiences\, has become a living language of healing\, known deeply through personal experience. \nAccompanied by her band\, Ram Dass (piano\, clarinet\, vocals)\, Bruno Justi (guitar\, flute\, vocals)\, and Sukhmani (percussion\, vocals)\, along with some surprise guests\, Snatam will share music spanning her discography\, featuring well known classics as well as deeply personal songs from Snatam’s history that have never before been performed live\, spanning 25 years of music that have become a soundtrack of healing across generations. Each night becomes a remembrance of inner stillness\, shared humanity\, and of the healing power that arises when voices join together. \nThis tour is an invitation to gather once again\, to chant together\, and to celebrate the grace that continues to move through these mantras and through all of us.
URL:https://luketheatre.org/event/snatam-kaur-by-thy-grace/
LOCATION:The Luke Theatre\, 721 E. Cota Street\, Santa Barbara\, CA\, 93103\, United States
ATTACH;FMTTYPE=image/jpeg:https://luketheatre.org/wp-content/uploads/2026/02/627238750_18395443174183062_3105154952574767233_n.jpg
END:VEVENT
END:VCALENDAR