BEGIN:VCALENDAR
VERSION:2.0
PRODID:-//The Luke Theatre - ECPv6.15.20//NONSGML v1.0//EN
CALSCALE:GREGORIAN
METHOD:PUBLISH
X-ORIGINAL-URL:https://luketheatre.org
X-WR-CALDESC:Events for The Luke Theatre
REFRESH-INTERVAL;VALUE=DURATION:PT1H
X-Robots-Tag:noindex
X-PUBLISHED-TTL:PT1H
BEGIN:VTIMEZONE
TZID:America/Los_Angeles
BEGIN:DAYLIGHT
TZOFFSETFROM:-0800
TZOFFSETTO:-0700
TZNAME:PDT
DTSTART:20250309T100000
END:DAYLIGHT
BEGIN:STANDARD
TZOFFSETFROM:-0700
TZOFFSETTO:-0800
TZNAME:PST
DTSTART:20251102T090000
END:STANDARD
BEGIN:DAYLIGHT
TZOFFSETFROM:-0800
TZOFFSETTO:-0700
TZNAME:PDT
DTSTART:20260308T100000
END:DAYLIGHT
BEGIN:STANDARD
TZOFFSETFROM:-0700
TZOFFSETTO:-0800
TZNAME:PST
DTSTART:20261101T090000
END:STANDARD
BEGIN:DAYLIGHT
TZOFFSETFROM:-0800
TZOFFSETTO:-0700
TZNAME:PDT
DTSTART:20270314T100000
END:DAYLIGHT
BEGIN:STANDARD
TZOFFSETFROM:-0700
TZOFFSETTO:-0800
TZNAME:PST
DTSTART:20271107T090000
END:STANDARD
END:VTIMEZONE
BEGIN:VEVENT
DTSTART;TZID=America/Los_Angeles:20260321T173000
DTEND;TZID=America/Los_Angeles:20260321T193000
DTSTAMP:20260423T135937
CREATED:20260224T005107Z
LAST-MODIFIED:20260224T220018Z
UID:7289-1774114200-1774121400@luketheatre.org
SUMMARY:InterAct Theatre School - In Your Dreams
DESCRIPTION:Welcome to InterAct\, where theater is more than just a pastime—it’s an investment in your child’s future. With a blend of acting\, singing\, and dance\, in a non-competitive environment where we empower children with essential life skills\, while having fun! \nThis spring\, InterAct presents In Your Dreams\, a coming-of-age musical about courage\, friendship\, and believing in yourself.
URL:https://luketheatre.org/event/interact-theatre-school-in-your-dreams-2/
LOCATION:The Luke Theatre\, 721 E. Cota Street\, Santa Barbara\, CA\, 93103\, United States
ATTACH;FMTTYPE=image/webp:https://luketheatre.org/wp-content/uploads/2026/02/In-your-dreams-image3_opt.webp
END:VEVENT
BEGIN:VEVENT
DTSTART;TZID=America/Los_Angeles:20260321T140000
DTEND;TZID=America/Los_Angeles:20260321T160000
DTSTAMP:20260423T135937
CREATED:20260224T004853Z
LAST-MODIFIED:20260224T235029Z
UID:7284-1774101600-1774108800@luketheatre.org
SUMMARY:InterAct Theatre School - In Your Dreams
DESCRIPTION:InterAct Theatre School presents ‘In Your Dreams’. This is a story about growing up in the modern age – about finding courage to take the next step forward when it is much easier to be distracted or just ignore a problem!
URL:https://luketheatre.org/event/interact-theatre-school-in-your-dreams/
LOCATION:The Luke Theatre\, 721 E. Cota Street\, Santa Barbara\, CA\, 93103\, United States
ATTACH;FMTTYPE=image/webp:https://luketheatre.org/wp-content/uploads/2026/02/In-your-dreams-image3_opt.webp
END:VEVENT
END:VCALENDAR