BEGIN:VCALENDAR
VERSION:2.0
PRODID:-//The Luke Theatre - ECPv6.15.20//NONSGML v1.0//EN
CALSCALE:GREGORIAN
METHOD:PUBLISH
X-ORIGINAL-URL:https://luketheatre.org
X-WR-CALDESC:Events for The Luke Theatre
REFRESH-INTERVAL;VALUE=DURATION:PT1H
X-Robots-Tag:noindex
X-PUBLISHED-TTL:PT1H
BEGIN:VTIMEZONE
TZID:America/Los_Angeles
BEGIN:DAYLIGHT
TZOFFSETFROM:-0800
TZOFFSETTO:-0700
TZNAME:PDT
DTSTART:20250309T100000
END:DAYLIGHT
BEGIN:STANDARD
TZOFFSETFROM:-0700
TZOFFSETTO:-0800
TZNAME:PST
DTSTART:20251102T090000
END:STANDARD
BEGIN:DAYLIGHT
TZOFFSETFROM:-0800
TZOFFSETTO:-0700
TZNAME:PDT
DTSTART:20260308T100000
END:DAYLIGHT
BEGIN:STANDARD
TZOFFSETFROM:-0700
TZOFFSETTO:-0800
TZNAME:PST
DTSTART:20261101T090000
END:STANDARD
BEGIN:DAYLIGHT
TZOFFSETFROM:-0800
TZOFFSETTO:-0700
TZNAME:PDT
DTSTART:20270314T100000
END:DAYLIGHT
BEGIN:STANDARD
TZOFFSETFROM:-0700
TZOFFSETTO:-0800
TZNAME:PST
DTSTART:20271107T090000
END:STANDARD
END:VTIMEZONE
BEGIN:VEVENT
DTSTART;TZID=America/Los_Angeles:20260118T180000
DTEND;TZID=America/Los_Angeles:20260118T190000
DTSTAMP:20260423T170641
CREATED:20250905T181932Z
LAST-MODIFIED:20251230T201633Z
UID:7072-1768759200-1768762800@luketheatre.org
SUMMARY:Mariachi Reyna de Los Ángeles - Viva el Arte de Santa Barbara
DESCRIPTION:Sunday\, January 18 |6 PM| Marjorie Luke Theatre \nBlazing a trail for women in a male-dominated musical genre\, Mariachi Reyna de Los Angeles brings sensitivity\, beauty\, warmth and vivacious spirit to the historic art of mariachi. Established in 1994\, the group had a strong beginning thanks to the mentorship of Lola Bertran\, La Reina de La Música Ranchera. Mariachi Reyna de Los Angeles has since gone on to record three albums\, share the stage with world-renowned musicians like Vicki Carr\, Guadalupe Pineda and Lucha Villa\, and perform for some of the world’s highest-profile celebrities\, including Tom Cruise\, Oprah Winfrey\, and Barack and Michelle Obama. \nMariachi Reyna de Los Ángeles Weekend Schedule: \nThursday\, January 15 |7 PM| Carpinteria Vets Memorial Building\nFriday\, January 16 |7 PM| Isla Vista Elementary\nSaturday\, January 17 |7 PM| Guadalupe City Hall
URL:https://luketheatre.org/event/mariachi-reyna/
LOCATION:The Luke Theatre\, 721 E. Cota Street\, Santa Barbara\, CA\, 93103\, United States
CATEGORIES:¡Viva el Arte!
ATTACH;FMTTYPE=application/pdf:https://luketheatre.org/wp-content/uploads/2025/09/MR_SB_IG.pdf
END:VEVENT
END:VCALENDAR