BEGIN:VCALENDAR
VERSION:2.0
PRODID:-//The Luke Theatre - ECPv6.15.20//NONSGML v1.0//EN
CALSCALE:GREGORIAN
METHOD:PUBLISH
X-ORIGINAL-URL:https://luketheatre.org
X-WR-CALDESC:Events for The Luke Theatre
REFRESH-INTERVAL;VALUE=DURATION:PT1H
X-Robots-Tag:noindex
X-PUBLISHED-TTL:PT1H
BEGIN:VTIMEZONE
TZID:America/Los_Angeles
BEGIN:DAYLIGHT
TZOFFSETFROM:-0800
TZOFFSETTO:-0700
TZNAME:PDT
DTSTART:20240310T100000
END:DAYLIGHT
BEGIN:STANDARD
TZOFFSETFROM:-0700
TZOFFSETTO:-0800
TZNAME:PST
DTSTART:20241103T090000
END:STANDARD
BEGIN:DAYLIGHT
TZOFFSETFROM:-0800
TZOFFSETTO:-0700
TZNAME:PDT
DTSTART:20250309T100000
END:DAYLIGHT
BEGIN:STANDARD
TZOFFSETFROM:-0700
TZOFFSETTO:-0800
TZNAME:PST
DTSTART:20251102T090000
END:STANDARD
BEGIN:DAYLIGHT
TZOFFSETFROM:-0800
TZOFFSETTO:-0700
TZNAME:PDT
DTSTART:20260308T100000
END:DAYLIGHT
BEGIN:STANDARD
TZOFFSETFROM:-0700
TZOFFSETTO:-0800
TZNAME:PST
DTSTART:20261101T090000
END:STANDARD
END:VTIMEZONE
BEGIN:VEVENT
DTSTART;TZID=America/Los_Angeles:20251109T180000
DTEND;TZID=America/Los_Angeles:20251109T190000
DTSTAMP:20260423T200643
CREATED:20250904T191307Z
LAST-MODIFIED:20251104T211136Z
UID:7065-1762711200-1762714800@luketheatre.org
SUMMARY:Gaby Moreno - Viva el Arte de Santa Barbara
DESCRIPTION:Sunday\, November 9 |6:00 PM| Marjorie Luke Theatre \nGuatemala-born Gaby Moreno is a Grammy-winning singer-songwriter and producer known for blending Latin pop\, rock\, and Americana. With four Grammy nominations and a Latin Grammy win\, she’s performed alongside major artists and contributed music to films and TV\, including Disney’s Elena of Avalor. Moreno is also Guatemala’s first UNICEF Goodwill Ambassador\, advocating for immigrant rights through her art. \nGaby Moreno Viva Weekend Schedule: \nThursday\, November 6 |7 PM| Carpinteria Vets Memorial Building\nFriday\, November 7 |7 PM| Isla Vista Elementary\nSaturday\, November 8 |7 PM| Guadalupe City Hall \n 
URL:https://luketheatre.org/event/gaby-moreno-viva-el-arte-de-santa-barbara/
LOCATION:The Luke Theatre\, 721 E. Cota Street\, Santa Barbara\, CA\, 93103\, United States
CATEGORIES:¡Viva el Arte!
ATTACH;FMTTYPE=image/jpeg:https://luketheatre.org/wp-content/uploads/2025/09/IMG_7801.jpeg
END:VEVENT
END:VCALENDAR