BEGIN:VCALENDAR
VERSION:2.0
PRODID:-//The Luke Theatre - ECPv6.15.20//NONSGML v1.0//EN
CALSCALE:GREGORIAN
METHOD:PUBLISH
X-WR-CALNAME:The Luke Theatre
X-ORIGINAL-URL:https://luketheatre.org
X-WR-CALDESC:Events for The Luke Theatre
REFRESH-INTERVAL;VALUE=DURATION:PT1H
X-Robots-Tag:noindex
X-PUBLISHED-TTL:PT1H
BEGIN:VTIMEZONE
TZID:America/Los_Angeles
BEGIN:DAYLIGHT
TZOFFSETFROM:-0800
TZOFFSETTO:-0700
TZNAME:PDT
DTSTART:20230312T100000
END:DAYLIGHT
BEGIN:STANDARD
TZOFFSETFROM:-0700
TZOFFSETTO:-0800
TZNAME:PST
DTSTART:20231105T090000
END:STANDARD
BEGIN:DAYLIGHT
TZOFFSETFROM:-0800
TZOFFSETTO:-0700
TZNAME:PDT
DTSTART:20240310T100000
END:DAYLIGHT
BEGIN:STANDARD
TZOFFSETFROM:-0700
TZOFFSETTO:-0800
TZNAME:PST
DTSTART:20241103T090000
END:STANDARD
BEGIN:DAYLIGHT
TZOFFSETFROM:-0800
TZOFFSETTO:-0700
TZNAME:PDT
DTSTART:20250309T100000
END:DAYLIGHT
BEGIN:STANDARD
TZOFFSETFROM:-0700
TZOFFSETTO:-0800
TZNAME:PST
DTSTART:20251102T090000
END:STANDARD
END:VTIMEZONE
BEGIN:VEVENT
DTSTART;TZID=America/Los_Angeles:20240908T180000
DTEND;TZID=America/Los_Angeles:20240908T190000
DTSTAMP:20260424T152725
CREATED:20240823T224204Z
LAST-MODIFIED:20240823T224221Z
UID:6669-1725818400-1725822000@luketheatre.org
SUMMARY:Las Cafeteras
DESCRIPTION:Únete a nosotros en The Luke para el evento de inicio GRATIS de la serie Viva el Arte\, ¡Las Cafeteras! Las Cafeteras es una banda chicana de East Los Angeles\, California. Su música fusiona la palabra hablada y la música folclórica\, con Son jarocho tradicional y baile de zapateado. ¡Familias de todas las edades son bienvenidas para disfrutar de una noche familiar llena de diversión\, música y baile! \nJoin us at The Luke for the FREE Viva el Arte series kickoff event\, Las Cafeteras! Las Cafeteras is a Chicano band from East Los Angeles\, California. Their music fuses spoken word and folk music\, with traditional Son jarocho and zapateado dancing. Families of all ages are welcome for this family friendly evening of fun\, music\, and dancing!
URL:https://luketheatre.org/event/las-cafeteras-2/
LOCATION:CA
CATEGORIES:¡Viva el Arte!
ATTACH;FMTTYPE=application/pdf:https://luketheatre.org/wp-content/uploads/2024/08/Las-Cafeteras-2024.pdf
END:VEVENT
END:VCALENDAR