BEGIN:VCALENDAR
VERSION:2.0
PRODID:-//The Luke Theatre - ECPv6.15.20//NONSGML v1.0//EN
CALSCALE:GREGORIAN
METHOD:PUBLISH
X-ORIGINAL-URL:https://luketheatre.org
X-WR-CALDESC:Events for The Luke Theatre
REFRESH-INTERVAL;VALUE=DURATION:PT1H
X-Robots-Tag:noindex
X-PUBLISHED-TTL:PT1H
BEGIN:VTIMEZONE
TZID:America/Los_Angeles
BEGIN:DAYLIGHT
TZOFFSETFROM:-0800
TZOFFSETTO:-0700
TZNAME:PDT
DTSTART:20230312T100000
END:DAYLIGHT
BEGIN:STANDARD
TZOFFSETFROM:-0700
TZOFFSETTO:-0800
TZNAME:PST
DTSTART:20231105T090000
END:STANDARD
BEGIN:DAYLIGHT
TZOFFSETFROM:-0800
TZOFFSETTO:-0700
TZNAME:PDT
DTSTART:20240310T100000
END:DAYLIGHT
BEGIN:STANDARD
TZOFFSETFROM:-0700
TZOFFSETTO:-0800
TZNAME:PST
DTSTART:20241103T090000
END:STANDARD
BEGIN:DAYLIGHT
TZOFFSETFROM:-0800
TZOFFSETTO:-0700
TZNAME:PDT
DTSTART:20250309T100000
END:DAYLIGHT
BEGIN:STANDARD
TZOFFSETFROM:-0700
TZOFFSETTO:-0800
TZNAME:PST
DTSTART:20251102T090000
END:STANDARD
END:VTIMEZONE
BEGIN:VEVENT
DTSTART;TZID=America/Los_Angeles:20240519T180000
DTEND;TZID=America/Los_Angeles:20240519T190000
DTSTAMP:20260424T204931
CREATED:20230801T191030Z
LAST-MODIFIED:20240205T190927Z
UID:6161-1716141600-1716145200@luketheatre.org
SUMMARY:¡Viva el Arte!: Jarabe Mexicano
DESCRIPTION:Don’t miss Jarabe Mexicano in the final concert of this ¡Viva el Arte de Santa Bárbara! season! Jarabe Mexicano captures the nostalgic spirit of their border roots with their charismatic brand of “Bordeño-Soul\,” which honors the musical tastes and cultural influences of its members. Jarabe\, which translates to “concoction\,” highlights the eclectic mix of genres they perform ranging from Mexican Folk\, Rock & Roll\, and Norteño/Tex-Mex to Latin Rock\, Trío Romántico\, and popular Cumbia. \nAs educators\, cultural ambassadors and advocates for the arts\, Jarabe Mexicano is “thought-provoking\, heartfelt\, and engaging\,” the Vilar Performing Arts Center raves. Both their concerts\, entitled “Fiesta En Familia\,” and their educational outreach program “Día de los Muertos: A Celebration of Life” aim to create a deeper and more inclusive sense of family and community\, with a special commitment to underserved groups. \n*Please note\, this event begins at 6pm*
URL:https://luketheatre.org/event/viva-el-arte-jarabe-mexicano/
LOCATION:The Luke Theatre\, 721 E. Cota Street\, Santa Barbara\, CA\, 93103\, United States
CATEGORIES:¡Viva el Arte!
ATTACH;FMTTYPE=image/png:https://luketheatre.org/wp-content/uploads/2023/08/Jarabe-Mexicano.png
END:VEVENT
END:VCALENDAR