BEGIN:VCALENDAR
VERSION:2.0
PRODID:-//The Luke Theatre - ECPv6.15.20//NONSGML v1.0//EN
CALSCALE:GREGORIAN
METHOD:PUBLISH
X-ORIGINAL-URL:https://luketheatre.org
X-WR-CALDESC:Events for The Luke Theatre
REFRESH-INTERVAL;VALUE=DURATION:PT1H
X-Robots-Tag:noindex
X-PUBLISHED-TTL:PT1H
BEGIN:VTIMEZONE
TZID:America/Los_Angeles
BEGIN:DAYLIGHT
TZOFFSETFROM:-0800
TZOFFSETTO:-0700
TZNAME:PDT
DTSTART:20220313T100000
END:DAYLIGHT
BEGIN:STANDARD
TZOFFSETFROM:-0700
TZOFFSETTO:-0800
TZNAME:PST
DTSTART:20221106T090000
END:STANDARD
BEGIN:DAYLIGHT
TZOFFSETFROM:-0800
TZOFFSETTO:-0700
TZNAME:PDT
DTSTART:20230312T100000
END:DAYLIGHT
BEGIN:STANDARD
TZOFFSETFROM:-0700
TZOFFSETTO:-0800
TZNAME:PST
DTSTART:20231105T090000
END:STANDARD
BEGIN:DAYLIGHT
TZOFFSETFROM:-0800
TZOFFSETTO:-0700
TZNAME:PDT
DTSTART:20240310T100000
END:DAYLIGHT
BEGIN:STANDARD
TZOFFSETFROM:-0700
TZOFFSETTO:-0800
TZNAME:PST
DTSTART:20241103T090000
END:STANDARD
END:VTIMEZONE
BEGIN:VEVENT
DTSTART;TZID=America/Los_Angeles:20230416T190000
DTEND;TZID=America/Los_Angeles:20230416T200000
DTSTAMP:20260425T164513
CREATED:20221230T201948Z
LAST-MODIFIED:20230331T201941Z
UID:5708-1681671600-1681675200@luketheatre.org
SUMMARY:¡Viva el Arte!: Tres Souls
DESCRIPTION:You won’t want to miss this performance by Tres Souls\, the third concert in the ¡Viva el Arte de Santa Bárbara! season. This Los Angeles-based Trío Romántico revives the nostalgic boleros of the 1940s-1960s. For the last decade\, Rocio Mendoza\, Roberto Carlos\, and Jesus Martinez have serenaded audiences in LA and beyond. “Through their expert musicianship and swooning vocals\, Tres Souls enchants audiences and transports them to a more romantic time” (The Music Center).
URL:https://luketheatre.org/event/viva-el-arte-tres-souls/
LOCATION:The Luke Theatre\, 721 E. Cota Street\, Santa Barbara\, CA\, 93103\, United States
CATEGORIES:¡Viva el Arte!
ATTACH;FMTTYPE=image/jpeg:https://luketheatre.org/wp-content/uploads/2022/12/Viva-23-Tres-Souls.jpeg
END:VEVENT
END:VCALENDAR