BEGIN:VCALENDAR
VERSION:2.0
PRODID:-//The Luke Theatre - ECPv6.15.20//NONSGML v1.0//EN
CALSCALE:GREGORIAN
METHOD:PUBLISH
X-WR-CALNAME:The Luke Theatre
X-ORIGINAL-URL:https://luketheatre.org
X-WR-CALDESC:Events for The Luke Theatre
REFRESH-INTERVAL;VALUE=DURATION:PT1H
X-Robots-Tag:noindex
X-PUBLISHED-TTL:PT1H
BEGIN:VTIMEZONE
TZID:America/Los_Angeles
BEGIN:DAYLIGHT
TZOFFSETFROM:-0800
TZOFFSETTO:-0700
TZNAME:PDT
DTSTART:20220313T100000
END:DAYLIGHT
BEGIN:STANDARD
TZOFFSETFROM:-0700
TZOFFSETTO:-0800
TZNAME:PST
DTSTART:20221106T090000
END:STANDARD
BEGIN:DAYLIGHT
TZOFFSETFROM:-0800
TZOFFSETTO:-0700
TZNAME:PDT
DTSTART:20230312T100000
END:DAYLIGHT
BEGIN:STANDARD
TZOFFSETFROM:-0700
TZOFFSETTO:-0800
TZNAME:PST
DTSTART:20231105T090000
END:STANDARD
BEGIN:DAYLIGHT
TZOFFSETFROM:-0800
TZOFFSETTO:-0700
TZNAME:PDT
DTSTART:20240310T100000
END:DAYLIGHT
BEGIN:STANDARD
TZOFFSETFROM:-0700
TZOFFSETTO:-0800
TZNAME:PST
DTSTART:20241103T090000
END:STANDARD
END:VTIMEZONE
BEGIN:VEVENT
DTSTART;TZID=America/Los_Angeles:20230319T190000
DTEND;TZID=America/Los_Angeles:20230319T200000
DTSTAMP:20260425T180447
CREATED:20221230T200644Z
LAST-MODIFIED:20230106T203925Z
UID:5699-1679252400-1679256000@luketheatre.org
SUMMARY:¡Viva el Arte!: Grandeza Mexicana
DESCRIPTION:Join us for a fantastic performance by Grandeza Mexicana\, the second offering in this season’s ¡Viva el Arte de Santa Bárbara! series! Grandeza Mexicana is LA’s premier folk ballet company\, preserving the traditions and customs of Mexico’s historic past and promising present. \nTo learn more about Grandeza Mexicana\, visit www.GrandezaMexicana.com.
URL:https://luketheatre.org/event/viva-el-arte-grandeza-mexicana/
LOCATION:The Luke Theatre\, 721 E. Cota Street\, Santa Barbara\, CA\, 93103\, United States
CATEGORIES:¡Viva el Arte!
ATTACH;FMTTYPE=image/jpeg:https://luketheatre.org/wp-content/uploads/2022/12/Viva-Grandeza-Mexicana.jpg
END:VEVENT
END:VCALENDAR