BEGIN:VCALENDAR
VERSION:2.0
PRODID:-//The Luke Theatre - ECPv6.15.20//NONSGML v1.0//EN
CALSCALE:GREGORIAN
METHOD:PUBLISH
X-ORIGINAL-URL:https://luketheatre.org
X-WR-CALDESC:Events for The Luke Theatre
REFRESH-INTERVAL;VALUE=DURATION:PT1H
X-Robots-Tag:noindex
X-PUBLISHED-TTL:PT1H
BEGIN:VTIMEZONE
TZID:America/Los_Angeles
BEGIN:DAYLIGHT
TZOFFSETFROM:-0800
TZOFFSETTO:-0700
TZNAME:PDT
DTSTART:20250309T100000
END:DAYLIGHT
BEGIN:STANDARD
TZOFFSETFROM:-0700
TZOFFSETTO:-0800
TZNAME:PST
DTSTART:20251102T090000
END:STANDARD
BEGIN:DAYLIGHT
TZOFFSETFROM:-0800
TZOFFSETTO:-0700
TZNAME:PDT
DTSTART:20260308T100000
END:DAYLIGHT
BEGIN:STANDARD
TZOFFSETFROM:-0700
TZOFFSETTO:-0800
TZNAME:PST
DTSTART:20261101T090000
END:STANDARD
BEGIN:DAYLIGHT
TZOFFSETFROM:-0800
TZOFFSETTO:-0700
TZNAME:PDT
DTSTART:20270314T100000
END:DAYLIGHT
BEGIN:STANDARD
TZOFFSETFROM:-0700
TZOFFSETTO:-0800
TZNAME:PST
DTSTART:20271107T090000
END:STANDARD
END:VTIMEZONE
BEGIN:VEVENT
DTSTART;TZID=America/Los_Angeles:20260411T190000
DTEND;TZID=America/Los_Angeles:20260411T200000
DTSTAMP:20260423T111047
CREATED:20260408T010050Z
LAST-MODIFIED:20260408T010050Z
UID:7316-1775934000-1775937600@luketheatre.org
SUMMARY:Santa Barbara Junior High School Presents: Spamalot
DESCRIPTION:Our spring musical\, “Spamalot\,” is coming Friday and Saturday\, April 10-11 @7PM. Tickets are $5 for students and $10 for adults\, and are sold at the door.
URL:https://luketheatre.org/event/santa-barbara-junior-high-school-presents-spamalot/2026-04-11/
LOCATION:The Luke Theatre\, 721 E. Cota Street\, Santa Barbara\, CA\, 93103\, United States
ATTACH;FMTTYPE=application/pdf:https://luketheatre.org/wp-content/uploads/2026/04/final.pdf
END:VEVENT
BEGIN:VEVENT
DTSTART;TZID=America/Los_Angeles:20260410T190000
DTEND;TZID=America/Los_Angeles:20260410T200000
DTSTAMP:20260423T111047
CREATED:20260408T010050Z
LAST-MODIFIED:20260408T010050Z
UID:7313-1775847600-1775851200@luketheatre.org
SUMMARY:Santa Barbara Junior High School Presents: Spamalot
DESCRIPTION:Our spring musical\, “Spamalot\,” is coming Friday and Saturday\, April 10-11 @7PM. Tickets are $5 for students and $10 for adults\, and are sold at the door.
URL:https://luketheatre.org/event/santa-barbara-junior-high-school-presents-spamalot/2026-04-10/
LOCATION:The Luke Theatre\, 721 E. Cota Street\, Santa Barbara\, CA\, 93103\, United States
ATTACH;FMTTYPE=application/pdf:https://luketheatre.org/wp-content/uploads/2026/04/final.pdf
END:VEVENT
END:VCALENDAR